BEGIN:VCALENDAR
VERSION:2.0
PRODID:-//Eventin//Event Calendar//EN
CALSCALE:GREGORIAN
METHOD:PUBLISH
BEGIN:VEVENT
UID:a9c47166c61e4511e777e09f3767bc86@restorationministriesoflargo.com
SUMMARY:Restoration Rubies Meeting
DESCRIPTION:
LOCATION:Online
DTSTAMP:20260423T183834Z
DTSTART:20260423T160000Z
DTEND:20260423T180000Z
END:VEVENT
END:VCALENDAR
