BEGIN:VCALENDAR
VERSION:2.0
PRODID:-//Eventin//Event Calendar//EN
CALSCALE:GREGORIAN
METHOD:PUBLISH
BEGIN:VEVENT
UID:0118afed3588223af3a01126bbae2ce4@restorationministriesoflargo.com
SUMMARY:Couple's Ministry
DESCRIPTION:
LOCATION:Online
DTSTAMP:20260423T183802Z
DTSTART:20230211T233000Z
DTEND:20260424T013000Z
END:VEVENT
END:VCALENDAR
