BEGIN:VCALENDAR
VERSION:2.0
PRODID:-//Eventin//Event Calendar//EN
CALSCALE:GREGORIAN
METHOD:PUBLISH
BEGIN:VEVENT
UID:66e5f4b5cf4c1203b2d978a09e535d7a@restorationministriesoflargo.com
SUMMARY:Restoration Rubies Meeting
DESCRIPTION:
LOCATION:Online
DTSTAMP:20260423T184214Z
DTSTART:20230204T160000Z
DTEND:20260423T180000Z
END:VEVENT
END:VCALENDAR
