BEGIN:VCALENDAR
VERSION:2.0
PRODID:-//Eventin//Event Calendar//EN
CALSCALE:GREGORIAN
METHOD:PUBLISH
BEGIN:VEVENT
UID:676b1031bec8a747fdc770393f727591@restorationministriesoflargo.com
SUMMARY:Restoration Rubies Meeting
DESCRIPTION:
LOCATION:Online
DTSTAMP:20260423T184459Z
DTSTART:20230107T160000Z
DTEND:20260423T180000Z
END:VEVENT
END:VCALENDAR
