BEGIN:VCALENDAR
VERSION:2.0
PRODID:-//Eventin//Event Calendar//EN
CALSCALE:GREGORIAN
METHOD:PUBLISH
BEGIN:VEVENT
UID:fd96a91fea14211f611e0356581efb23@restorationministriesoflargo.com
SUMMARY:COVID Clinic
DESCRIPTION:(Vaccines and Boosters Available)
LOCATION:Online
DTSTAMP:20260423T184305Z
DTSTART:20230328T100000Z
DTEND:20260423T130000Z
END:VEVENT
END:VCALENDAR
