BEGIN:VCALENDAR
VERSION:2.0
PRODID:-//Eventin//Event Calendar//EN
CALSCALE:GREGORIAN
METHOD:PUBLISH
BEGIN:VEVENT
UID:414dd6d35945fc11b05e765b4243dc81@restorationministriesoflargo.com
SUMMARY:COVID Clinic
DESCRIPTION:(Vaccines and Boosters Available)
LOCATION:Online
DTSTAMP:20260423T184012Z
DTSTART:20230131T100000Z
DTEND:20260423T130000Z
END:VEVENT
END:VCALENDAR
